BEGIN:VCALENDAR
VERSION:2.0
PRODID:-//3nity.com//3nity CMS//EN
BEGIN:VEVENT
SUMMARY:RWH Meeting
UID:2024-07-16-1089868@www.rwhall.org
SEQUENCE:0
STATUS:CONFIRMED
DTSTART:20240328T180000
DTEND:20240328T203000
DTSTAMP:20161222T120000
LOCATION: Luna's Restaurant, 200 Main Street, Gainesville, GA 30501
DESCRIPTION:Save the Date and Time. Be sure to join us and be ready to Spring into Action this election year!
URL:http://www.rwhall.org
END:VEVENT
END:VCALENDAR
